BEGIN:VCALENDAR
VERSION:2.0
PRODID:-//wp-events-plugin.com//7.2.3.1//EN
TZID:Europe/Madrid
X-WR-TIMEZONE:Europe/Madrid
BEGIN:VEVENT
UID:397@pirineoinnovacionturistica.com
DTSTART;TZID=Europe/Madrid:20260522T170000
DTEND;TZID=Europe/Madrid:20260522T190000
DTSTAMP:20260227T200819Z
URL:https://pirineoinnovacionturistica.com/events/taller-de-teatro-y-expre
 sion-corporal-en-sabinanigo-5/
SUMMARY:Taller de teatro y expresión corporal en Sabiñánigo
DESCRIPTION:¿Te apetece probar algo diferente? El Ayuntamiento lanza talle
 res gratuitos de Teatro y Expresión Corporal. ¡Cero drama y mucho juego!
 \n\nEs la excusa perfecta para soltar nervios\, echarse unas risas y conoc
 er gente nueva. No importa si no tienes ni idea de teatro\, aquí venimos 
 a pasarlo bien.\n\n¿Cuándo será? El viernes\, 13 de marzo\, de 17 a 19 
 horas.\n\nHabrá dos grupos de edad:\n\n 	De 13 a 17 años: en el Espacio 
 Joven.\n 	De 18 a 30 años: en la Casa de la Cultura del Puente Sardas.\n\
 nMás información e inscripciones gratuitas en tramenandoteatro@gmail.com
ATTACH;FMTTYPE=image/jpeg:https://pirineoinnovacionturistica.com/wp-conten
 t/uploads/2026/02/4-1.jpeg
CATEGORIES:Cultura
END:VEVENT
BEGIN:VTIMEZONE
TZID:Europe/Madrid
X-LIC-LOCATION:Europe/Madrid
BEGIN:DAYLIGHT
DTSTART:20260329T030000
TZOFFSETFROM:+0100
TZOFFSETTO:+0200
TZNAME:CEST
END:DAYLIGHT
END:VTIMEZONE
END:VCALENDAR