BEGIN:VCALENDAR
VERSION:2.0
PRODID:-//wp-events-plugin.com//7.2.3.1//EN
TZID:Europe/Madrid
X-WR-TIMEZONE:Europe/Madrid
BEGIN:VEVENT
UID:427@pirineoinnovacionturistica.com
DTSTART;TZID=Europe/Madrid:20260425T000000
DTEND;TZID=Europe/Madrid:20260426T000000
DTSTAMP:20260307T091404Z
URL:https://pirineoinnovacionturistica.com/events/puertas-abiertas-en-el-m
 useo-de-sabinanigo-2/
SUMMARY:Puertas abiertas en el Museo de Sabiñánigo
DESCRIPTION:Jornada de puertas abiertas Museo Ángel Orensanz y Artes de Se
 rrablo.\n\nPuertas abiertas durante el mes de abril los días:\n\nSábado 
 25\, en horario de 10:00 a 14:00 y de 16:00 a 18:30 horas.\n\nDomingo 26\,
  en horario de 10:00 a 14:00 horas.
ATTACH;FMTTYPE=image/jpeg:https://pirineoinnovacionturistica.com/wp-conten
 t/uploads/2026/03/10.jpeg
CATEGORIES:Cultura
END:VEVENT
BEGIN:VTIMEZONE
TZID:Europe/Madrid
X-LIC-LOCATION:Europe/Madrid
BEGIN:DAYLIGHT
DTSTART:20260329T030000
TZOFFSETFROM:+0100
TZOFFSETTO:+0200
TZNAME:CEST
END:DAYLIGHT
END:VTIMEZONE
END:VCALENDAR