BEGIN:VCALENDAR
VERSION:2.0
PRODID:-//wp-events-plugin.com//7.2.3.1//EN
TZID:Europe/Madrid
X-WR-TIMEZONE:Europe/Madrid
BEGIN:VEVENT
UID:405@pirineoinnovacionturistica.com
DTSTART;TZID=Europe/Madrid:20260502T193000
DTEND;TZID=Europe/Madrid:20260502T203000
DTSTAMP:20260222T084219Z
URL:https://pirineoinnovacionturistica.com/events/presentacion-de-libro-en
 -panticosa/
SUMMARY:Presentación de libro en Panticosa
DESCRIPTION:Presentación libro «Dryas\, la flor que vive en lo alto del P
 irineo» de Victor Ezquerra\nEl próximo 2 de mayo a las 19:30 horas\, en
  el Centro Cultural La Fajuala de Panticosa\, tendrá lugar la presentaci
 ón del libro de divulgación científica Dryas. La flor que vive en lo a
 lto del Pirineo\, obra del biólogo Víctor Ezquerra.\nEsta publicación 
 propone un viaje a través de los paisajes y los ecosistemas de alta mont
 aña desde la perspectiva de una flor alpina única\, la Dryas.\nA trav
 és de 13 capítulos\, casi 50 ilustraciones y un lenguaje accesible\, e
 l autor combina rigor científico con una mirada cercana a la naturaleza p
 ara dar a conocer las interacciones\, adaptaciones y muchas curiosidades 
 del Pirineo que a menudo pasan desapercibidas.\nVíctor Ezquerra\, natura
 l de Canfranc y especializado en la biodiversidad de la cordillera pirenai
 ca\, invita al público a redescubrir las montañas desde una nueva persp
 ectiva\, en la que los elementos geológicos\, climáticos\, vegetales y a
 nimales se entrelazan para revelar los secretos de la vida en las alturas.
 \nLa presentación será una oportunidad para conocer de primera mano los 
 objetivos y el proceso creativo de esta obra\, acompañada de ilustracione
 s y explicaciones que acercan la ciencia del Pirineo a todos los públicos
 .
ATTACH;FMTTYPE=image/jpeg:https://pirineoinnovacionturistica.com/wp-conten
 t/uploads/2026/02/2-2.jpeg
CATEGORIES:Cultura
END:VEVENT
BEGIN:VTIMEZONE
TZID:Europe/Madrid
X-LIC-LOCATION:Europe/Madrid
BEGIN:DAYLIGHT
DTSTART:20260329T030000
TZOFFSETFROM:+0100
TZOFFSETTO:+0200
TZNAME:CEST
END:DAYLIGHT
END:VTIMEZONE
END:VCALENDAR