BEGIN:VCALENDAR
VERSION:2.0
PRODID:-//wp-events-plugin.com//7.2.3.1//EN
TZID:Europe/Madrid
X-WR-TIMEZONE:Europe/Madrid
BEGIN:VEVENT
UID:339@pirineoinnovacionturistica.com
DTSTART;TZID=Europe/Madrid;VALUE=DATE:20260709
DTEND;TZID=Europe/Madrid;VALUE=DATE:20260727
DTSTAMP:20260214T101216Z
URL:https://pirineoinnovacionturistica.com/events/pirineos-sur-2/
SUMMARY:Pirineos Sur
DESCRIPTION:9 de julio: José González y Rufus Wainwright.\n\n10 de julio:
  Nacho Vegas y Suede.\n\n12 de julio: Bomba estéreo.\n\n16 de julio: Sang
 uijuelas del Guadiana y la M.O.D.A.\n\n18 de julio: Hens y Dani Fernández
 .\n\n19 de julio: Rubén Blades y Melanie Santiler.\n\n23 de julio: Carlos
  Ares y Valeria Castro.\n\n26 de julio: ETS y La Fùmiga.
ATTACH;FMTTYPE=image/jpeg:https://pirineoinnovacionturistica.com/wp-conten
 t/uploads/2026/01/Pirineos-Sur.png
CATEGORIES:Cultura
END:VEVENT
BEGIN:VTIMEZONE
TZID:Europe/Madrid
X-LIC-LOCATION:Europe/Madrid
BEGIN:DAYLIGHT
DTSTART:20260329T030000
TZOFFSETFROM:+0100
TZOFFSETTO:+0200
TZNAME:CEST
END:DAYLIGHT
END:VTIMEZONE
END:VCALENDAR