BEGIN:VCALENDAR
VERSION:2.0
PRODID:-//wp-events-plugin.com//7.2.3.1//EN
TZID:Europe/Madrid
X-WR-TIMEZONE:Europe/Madrid
BEGIN:VEVENT
UID:421@pirineoinnovacionturistica.com
DTSTART;TZID=Europe/Madrid:20260516T000000
DTEND;TZID=Europe/Madrid:20260517T000000
DTSTAMP:20260307T090109Z
URL:https://pirineoinnovacionturistica.com/events/feria-de-la-primavera-de
 -biescas/
SUMMARY:Feria de la Primavera de Biescas
DESCRIPTION:La XV edición del certamen tendrá lugar los días 16 y 17 de 
 mayo de 2026\n\nSi deseas participar como expositor en la feria\, haz clic
  en el PDF para descargar el boletín de inscripción\, una vez cumpliment
 ado nos lo haces llegar vía email a la dirección que se indica dentro de
 l mismo boletín. El plazo de inscripción finaliza el día 27 de abril d
 e 2026.\nTodos los interesados en participar pueden realizar su preinscrip
 ción en este enlace.\n\n
CATEGORIES:Naturaleza
END:VEVENT
BEGIN:VTIMEZONE
TZID:Europe/Madrid
X-LIC-LOCATION:Europe/Madrid
BEGIN:DAYLIGHT
DTSTART:20260329T030000
TZOFFSETFROM:+0100
TZOFFSETTO:+0200
TZNAME:CEST
END:DAYLIGHT
END:VTIMEZONE
END:VCALENDAR