BEGIN:VCALENDAR
VERSION:2.0
PRODID:-//wp-events-plugin.com//7.2.3.1//EN
TZID:Europe/Madrid
X-WR-TIMEZONE:Europe/Madrid
BEGIN:VEVENT
UID:402@pirineoinnovacionturistica.com
DTSTART;TZID=Europe/Madrid:20260516T090000
DTEND;TZID=Europe/Madrid:20260516T140000
DTSTAMP:20260218T162100Z
URL:https://pirineoinnovacionturistica.com/events/excursion-en-panticosa-3
 /
SUMMARY:Excursión en Panticosa
DESCRIPTION:Valle de la Ripera y Cascada Saldo de Tendenera\n🌿 Descripci
 ón de la actividad\nEsta ruta conduce al Valle de la Ripera\, un valle de
  origen glaciar que conserva un alto valor paisajístico y natural. A lo l
 argo del recorrido se atraviesan praderas alpinas y cursos de agua\, sigui
 endo los ríos Bolática y Ripera\, hasta alcanzar el entorno de la Sierra
  Tendenera.\nLa tranquilidad del valle lo convierte en un lugar privilegia
 do para la interpretación del paisaje y la observación de fauna. El guí
 a explicará las características geomorfológicas del valle\, la biodiver
 sidad presente y la relación histórica entre el ser humano y este entorn
 o de montaña.\n\n\n\n\nℹ️ Información práctica\n\n 	Fecha: 16 mayo
  2026\n 	Duración: 4–5 horas\n 	Desnivel aproximado: ±450 m\n 	Dista
 ncia aproximada: 17 km\n 	Lugar de salida: Escuela de Esquí de Panticos
 a (Parking Estación) a las 9:00h\n\n\n\n\n📝 Inscripción\nActividad gr
 atuita con inscripción previa obligatoria.\n👉 [Inscripción a Valle d
 e la Ripera y Salto de Tendenera]\n\n\n\n\n📌 Recomendaciones\n\n 	Calza
 do cómodo de montaña.\n 	Agua.\n 	Protección solar.\n 	Ropa adecuada a 
 la meteorología.\n
ATTACH;FMTTYPE=image/jpeg:https://pirineoinnovacionturistica.com/wp-conten
 t/uploads/2026/02/10.jpeg
CATEGORIES:Naturaleza
END:VEVENT
BEGIN:VTIMEZONE
TZID:Europe/Madrid
X-LIC-LOCATION:Europe/Madrid
BEGIN:DAYLIGHT
DTSTART:20260329T030000
TZOFFSETFROM:+0100
TZOFFSETTO:+0200
TZNAME:CEST
END:DAYLIGHT
END:VTIMEZONE
END:VCALENDAR