BEGIN:VCALENDAR
VERSION:2.0
PRODID:-//wp-events-plugin.com//7.2.3.1//EN
TZID:Europe/Madrid
X-WR-TIMEZONE:Europe/Madrid
BEGIN:VEVENT
UID:401@pirineoinnovacionturistica.com
DTSTART;TZID=Europe/Madrid:20260425T080000
DTEND;TZID=Europe/Madrid:20260425T170000
DTSTAMP:20260218T161831Z
URL:https://pirineoinnovacionturistica.com/events/excursion-en-panticosa-2
 /
SUMMARY:Excursión en Panticosa
DESCRIPTION:Caminos tradicionales y miradores entre Panticosa y Hoz de Jaca
 \n🌿 Descripción de la actividad\nEsta ruta discurre a orillas del río
  Caldarés y conecta Panticosa con Hoz de Jaca a través de antiguos camin
 os utilizados tradicionalmente para la comunicación entre pueblos. El rec
 orrido atraviesa densos bosques y varios miradores naturales desde los que
  se obtienen interesantes vistas del entorno.\nA lo largo de la ruta\, el 
 guía realizará paradas interpretativas para explicar la flora\, la fauna
  y los usos tradicionales del territorio\, así como la importancia histó
 rica de estos caminos en la vida cotidiana del valle. Se trata de una ruta
  accesible\, ideal para quienes desean iniciarse en el senderismo interpre
 tativo.\n\n\n\n\nℹ️ Información práctica\n\n 	Fecha: 25 abril 2026\
 n 	Duración: 2–3 horas\n 	Desnivel aproximado: ±100 m\n 	Distancia a
 proximada: 13 km\n 	Lugar de salida: Oficina de Turismo de Panticosa a 
 las 9:00h\n\n\n\n\n📝 Inscripción\nActividad gratuita con inscripción 
 previa obligatoria.\n👉 [Inscripción a la ruta Caminos tradicionales y
  miradores]\n\n\n\n\n📌 Recomendaciones\n\n 	Calzado cómodo de montaña
 .\n 	Agua.\n 	Protección solar.\n 	Ropa adecuada a la meteorología.\n
CATEGORIES:Naturaleza
END:VEVENT
BEGIN:VTIMEZONE
TZID:Europe/Madrid
X-LIC-LOCATION:Europe/Madrid
BEGIN:DAYLIGHT
DTSTART:20260329T030000
TZOFFSETFROM:+0100
TZOFFSETTO:+0200
TZNAME:CEST
END:DAYLIGHT
END:VTIMEZONE
END:VCALENDAR