BEGIN:VCALENDAR
VERSION:2.0
PRODID:-//wp-events-plugin.com//7.2.3.1//EN
TZID:Europe/Madrid
X-WR-TIMEZONE:Europe/Madrid
BEGIN:VEVENT
UID:403@pirineoinnovacionturistica.com
DTSTART;TZID=Europe/Madrid:20260530T090000
DTEND;TZID=Europe/Madrid:20260530T140000
DTSTAMP:20260218T162247Z
URL:https://pirineoinnovacionturistica.com/events/excursion-de-panticosa/
SUMMARY:Excursión de Panticosa
DESCRIPTION:Ibones de Ordicuso o las Ranas (Balneario de Panticosa).\n🌿 
 Descripción de la actividad\nLa ruta parte del Balneario de Panticosa y a
 sciende hasta el Ibón de Ordicuso\, un pequeño ibón de alta montaña ro
 deado de cumbres que superan los 3.000 metros. Se trata de un itinerario i
 deal para conocer el paisaje de alta montaña y comprender la formación d
 e los ibones y su importancia ecológica.\nDurante el recorrido\, la guía
  interpretará el entorno natural del Balneario de Panticosa\, la flora y 
 la fauna de alta montaña\, así como las singularidades de este espacio n
 atural único dentro del Valle de Tena.\n\n\n\n\nℹ️ Información prác
 tica\n\n 	Fecha: 30 mayo 2026\n 	Duración: 4 horas\n 	Desnivel aproxima
 do: ±450 m\n 	Distancia aproximada: 6 km\n 	Lugar de salida: Refugio C
 asa de Piedra a las 9:00h\n\n\n\n\n📝 Inscripción\nActividad gratuita c
 on inscripción previa obligatoria.\n👉 [Inscripción Ibón de Ordicuso
 ]\n\n\n\n\n📌 Recomendaciones\n\n 	Calzado cómodo de montaña.\n 	Agua.
 \n 	Protección solar.\n 	Ropa adecuada a la meteorología.\n
ATTACH;FMTTYPE=image/jpeg:https://pirineoinnovacionturistica.com/wp-conten
 t/uploads/2026/02/11.jpeg
CATEGORIES:Naturaleza
END:VEVENT
BEGIN:VTIMEZONE
TZID:Europe/Madrid
X-LIC-LOCATION:Europe/Madrid
BEGIN:DAYLIGHT
DTSTART:20260329T030000
TZOFFSETFROM:+0100
TZOFFSETTO:+0200
TZNAME:CEST
END:DAYLIGHT
END:VTIMEZONE
END:VCALENDAR