BEGIN:VCALENDAR
VERSION:2.0
PRODID:-//wp-events-plugin.com//7.2.3.1//EN
TZID:Europe/Madrid
X-WR-TIMEZONE:Europe/Madrid
BEGIN:VEVENT
UID:213@pirineoinnovacionturistica.com
DTSTART;TZID=Europe/Madrid:20251012T230000
DTEND;TZID=Europe/Madrid:20251012T230000
DTSTAMP:20251006T025957Z
URL:https://pirineoinnovacionturistica.com/events/concierto-la-fuga/
SUMMARY:Concierto La Fuga
DESCRIPTION:El día 12 de octubre a las 23:30 horas será el concierto de L
 a Fuga en Sabiñánigo.\n\nLa actuación\, será en el Polideportivo del P
 uente Sardas\, y se celebra en el marco de las fiestas del Pilar organizad
 as por la Peña Edelweiss.\n\nLas entradas se pueden adquirir en este enla
 ce.
ATTACH;FMTTYPE=image/jpeg:https://pirineoinnovacionturistica.com/wp-conten
 t/uploads/2025/10/1-2.jpg
CATEGORIES:Cultura
END:VEVENT
BEGIN:VTIMEZONE
TZID:Europe/Madrid
X-LIC-LOCATION:Europe/Madrid
BEGIN:DAYLIGHT
DTSTART:20250330T030000
TZOFFSETFROM:+0100
TZOFFSETTO:+0200
TZNAME:CEST
END:DAYLIGHT
END:VTIMEZONE
END:VCALENDAR