BEGIN:VCALENDAR
VERSION:2.0
PRODID:-//wp-events-plugin.com//7.2.3.1//EN
TZID:Europe/Madrid
X-WR-TIMEZONE:Europe/Madrid
BEGIN:VEVENT
UID:404@pirineoinnovacionturistica.com
DTSTART;TZID=Europe/Madrid:20260502T173000
DTEND;TZID=Europe/Madrid:20260502T193000
DTSTAMP:20260222T084021Z
URL:https://pirineoinnovacionturistica.com/events/biodiversidad-en-pantico
 sa/
SUMMARY:Biodiversidad en Panticosa
DESCRIPTION:Taller de biodiversidad del Pirineo · Manualidades y plantas\n
 Actividad educativa y participativa para descubrir la flora del Pirineo de
  una forma creativa y didáctica.\n🌼 Descripción de la actividad\nEste
  taller de biodiversidad del Pirineo dirigido por el biólogo Victor Ezque
 rra\, propone un acercamiento práctico y creativo a la flora y los ecosis
 temas de montaña. A través de manualidades con goma eva\, las personas p
 articipantes aprenderán a crear y reconocer distintas especies vegetales 
 y su relación con los principales ecosistemas del Pirineo.\nLa actividad 
 fomenta el aprendizaje activo\, el trabajo en grupo y el interés por la b
 iodiversidad\, combinando explicaciones guiadas\, apoyo audiovisual y din
 ámicas participativas adaptadas a diferentes edades.\n\n\n\n\nℹ️ Info
 rmación práctica\n\n 	Fecha: 2 de mayo  Hora: 17:30 a 19:30 Ubicaci
 ón: Centro Cultural La Fajuala (Panticosa)\n 	Duración: aprox. 2 horas
 \n 	Plazas: limitadas\n 	Precio: actividad gratuita\n\n\n\n\n📝 Inscri
 pción\nActividad gratuita con inscripción previa obligatoria.\n👉 [In
 scripción al Taller de biodiversidad del Pirineo]
ATTACH;FMTTYPE=image/jpeg:https://pirineoinnovacionturistica.com/wp-conten
 t/uploads/2026/02/1-1.jpeg
CATEGORIES:Naturaleza
END:VEVENT
BEGIN:VTIMEZONE
TZID:Europe/Madrid
X-LIC-LOCATION:Europe/Madrid
BEGIN:DAYLIGHT
DTSTART:20260329T030000
TZOFFSETFROM:+0100
TZOFFSETTO:+0200
TZNAME:CEST
END:DAYLIGHT
END:VTIMEZONE
END:VCALENDAR